BEGIN:VCALENDAR
VERSION:2.0
PRODID:-// - ECPv5.4.0.2//NONSGML v1.0//EN
CALSCALE:GREGORIAN
METHOD:PUBLISH
X-ORIGINAL-URL:http://federacaoportuguesayoga.pt
X-WR-CALDESC:Events for 
BEGIN:VTIMEZONE
TZID:UTC
BEGIN:STANDARD
TZOFFSETFROM:+0000
TZOFFSETTO:+0000
TZNAME:UTC
DTSTART:20240101T000000
END:STANDARD
END:VTIMEZONE
BEGIN:VEVENT
DTSTART;VALUE=DATE:20240617
DTEND;VALUE=DATE:20240623
DTSTAMP:20260421T125932
CREATED:20240520T122700Z
LAST-MODIFIED:20240611T103928Z
UID:4637-1718582400-1719100799@federacaoportuguesayoga.pt
SUMMARY:Festival de Yoga 2024
DESCRIPTION:  \nO Festival de Yoga 2024\, dedicado ao valor da LIBERDADE\, vem acompanhado de um programa muito especial. \nDe 17 a 20 de Junho\, convidamos todos os professores de Yoga que se queiram associar a este evento a promover uma aula de Yoga destinada a profissionais de determinado sector da sociedade\, mediante o seguinte esquema: \n17/06/2024 (Segunda-feira) Aulas de Yoga destinadas a profissionais de saúde \n18/06/2024 (Terça-feira) Aulas de Yoga destinadas a profissionais de educação \n19/06/2024 (Quarta-feira) Aulas de Yoga destinadas a profissionais do atendimento ao público na área da administração e do corpo diplomático (segurança social\, finanças\, câmara municipal\, junta de freguesia\, embaixada…) \n20/06/2024 (Quinta-Feira) Aulas de Yoga destinadas a profissionais de segurança pública (bombeiros e polícias) \nNo dia 21 de Junho\, estaremos\, em parceria com a embaixada da Índia\, a promover duas aulas de Yoga nos Jardins de Belém\, em Lisboa: \n18:00 Aula de Yoga (Prof.º Nuno Simples) acompanhada com handpan (Ricardo Branco) ao abrigo da parceria com Mar handpan; \n18:00 Aula de Yoga específica para Crianças (Prof.ª Rita Martins) \nNo dia 22 de Junho\, estaremos na nossa sede\, em Santarém\, promovendo aulas de Yoga\, Meditação\, Yoga em família\, Yoga Facial e ainda um momento cultural que contará com a transmissão do documentário MUCO e com um breve espectáculo de dança tradicional indiana apresentado pela ISHARTES. \nPreçário: \nTodas as atividades são gratuitas\, sem necessidade de inscrição prévia\, com excepção: \n22-06-2024\, às 21h00: Documentário MUCO e breve espectáculo de dança tradicional indiana \n10€ (não sócios) | 8€ (sócios FPY\, com quotas regularizadas) \nFormulário de inscrição: https://forms.gle/rMEHaX4Zj1uAPTri7
URL:http://federacaoportuguesayoga.pt/event/festival-de-yoga-2024/
LOCATION:Federação Portuguesa Yoga\, Campo Infante da Câmara (antigo jardim de infância)\, SANTARÉM\, Santarém\, 2000-014\, Portugal
ORGANIZER;CN="Federa%C3%A7%C3%A3o%20Portuguesa%20de%20Yoga":MAILTO:federacaoportuguesayoga@gmail.com
END:VEVENT
END:VCALENDAR