BEGIN:VCALENDAR
VERSION:2.0
PRODID:-// - ECPv5.4.0.2//NONSGML v1.0//EN
CALSCALE:GREGORIAN
METHOD:PUBLISH
X-ORIGINAL-URL:http://federacaoportuguesayoga.pt
X-WR-CALDESC:Events for 
BEGIN:VTIMEZONE
TZID:UTC
BEGIN:STANDARD
TZOFFSETFROM:+0000
TZOFFSETTO:+0000
TZNAME:UTC
DTSTART:20230101T000000
END:STANDARD
END:VTIMEZONE
BEGIN:VEVENT
DTSTART;VALUE=DATE:20231125
DTEND;VALUE=DATE:20231127
DTSTAMP:20260422T003738
CREATED:20230727T191744Z
LAST-MODIFIED:20230727T192318Z
UID:4216-1700870400-1701043199@federacaoportuguesayoga.pt
SUMMARY:Workshop "Ajustamento no Asana" com Hugo Abecassis
DESCRIPTION:FORMADOR:\nHugo Abecassis – Professor de Yoga\, Fundador da entidade formadora “Embodied Yoga Anatomy” e do Curso de Especialização em Anatomia Funcional do Yoga. Terapeuta certificado internacionalmente em Ayurveda\, Terapias Biológicas\, Reprogramação Neuro Somática e Osteopata estrutural\, visceral e cranial. Mais informações em: www.hugoabecassis.com \nPreço:\n140€ público em geral\n120€ para sócios da Federação\n100€ para alunos do curso da Federação\n\n  \nInscrições: https://forms.gle/R39sCKgbUCAo4VMj7
URL:http://federacaoportuguesayoga.pt/event/workshop-ajustamento-no-asana-com-hugo-abecassis/
LOCATION:Federação Portuguesa Yoga\, Campo Infante da Câmara (antigo jardim de infância)\, SANTARÉM\, Santarém\, 2000-014\, Portugal
ORGANIZER;CN="Federa%C3%A7%C3%A3o%20Portuguesa%20de%20Yoga":MAILTO:federacaoportuguesayoga@gmail.com
END:VEVENT
END:VCALENDAR