BEGIN:VCALENDAR
VERSION:2.0
PRODID:-// - ECPv5.4.0.2//NONSGML v1.0//EN
CALSCALE:GREGORIAN
METHOD:PUBLISH
X-ORIGINAL-URL:http://federacaoportuguesayoga.pt
X-WR-CALDESC:Events for 
BEGIN:VTIMEZONE
TZID:UTC
BEGIN:STANDARD
TZOFFSETFROM:+0000
TZOFFSETTO:+0000
TZNAME:UTC
DTSTART:20230101T000000
END:STANDARD
END:VTIMEZONE
BEGIN:VEVENT
DTSTART;TZID=UTC:20230708T090000
DTEND;TZID=UTC:20230709T193000
DTSTAMP:20260424T153643
CREATED:20230602T092603Z
LAST-MODIFIED:20230613T092703Z
UID:4072-1688806800-1688931000@federacaoportuguesayoga.pt
SUMMARY:Workshop Ombros & Cintura Escapular com Hugo Abecassis
DESCRIPTION:Workshop OMBROS & CINTURA ESCAPULAR\nCom Hugo Abecassis \n8 e 9 de Julho\nDas 9h às 12h e das 14h às 17h\nNa Federação Portuguesa de Yoga \nA estabilidade\, flexibilidade e mobilidade\, são fundamentais para o aprumo e a homeostase dos ombros.\nEste workshop centra-se na organização dos ombros na prática do Àsana (posturas de yoga)\, considerando a capacidade de adaptação assim como as limitações do praticante. \nPROGRAMA:\n– Fundações e alinhamento da cintura escapular na prática;\n– Correções e alternativas para as posturas de yoga enquadrando os ombros;\n– Relação dos ombros com a coluna cervico-dorsal;\n– Leitura corporal dos ombros;\n– Anatomia funcional do ombro. \nPreço:\n100€ para alunos do curso da Federação\n120€ para sócios da Federação\n140€ público em geral \nFORMADOR:\nHugo Abecassis – Professor de Yoga\, Fundador da entidade formadora “Embodied Yoga Anatomy” e do Curso de Especialização em Anatomia Funcional do Yoga. Terapeuta certificado internacionalmente em Ayurveda\, Terapias Biológicas\, Reprogramação Neuro Somática e Osteopata estrutural\, visceral e cranial. Mais informações em: www.hugoabecassis.com \n  \nInscrições: https://forms.gle/KqqNWWSJkuaTDZ5H9
URL:http://federacaoportuguesayoga.pt/event/workshop-ombros-cintura-escapular-com-hugo-abecassis/
LOCATION:Federação Portuguesa Yoga\, Campo Infante da Câmara (antigo jardim de infância)\, SANTARÉM\, Santarém\, 2000-014\, Portugal
ORGANIZER;CN="Federa%C3%A7%C3%A3o%20Portuguesa%20de%20Yoga":MAILTO:federacaoportuguesayoga@gmail.com
END:VEVENT
END:VCALENDAR