BEGIN:VCALENDAR
VERSION:2.0
PRODID:-// - ECPv5.4.0.2//NONSGML v1.0//EN
CALSCALE:GREGORIAN
METHOD:PUBLISH
X-ORIGINAL-URL:http://federacaoportuguesayoga.pt
X-WR-CALDESC:Events for 
BEGIN:VTIMEZONE
TZID:UTC
BEGIN:STANDARD
TZOFFSETFROM:+0000
TZOFFSETTO:+0000
TZNAME:UTC
DTSTART:20240101T000000
END:STANDARD
END:VTIMEZONE
BEGIN:VEVENT
DTSTART;VALUE=DATE:20240525
DTEND;VALUE=DATE:20240527
DTSTAMP:20260422T092749
CREATED:20240423T085019Z
LAST-MODIFIED:20240516T152331Z
UID:4601-1716595200-1716767999@federacaoportuguesayoga.pt
SUMMARY:Workshop: Ajustamentos no asana - posturas sentadas e inversões
DESCRIPTION:25 e 26 de Maio \nDas 9h às 12h e das 14h às 17h \nNa Federação Portuguesa de Yoga\, Santarém \n  \nA riqueza do yoga estende-se igualmente à variedade do Asana que permite e perante a qual cada praticante tem mais ou menos dificuldade em realizar ou manter. \nÉ neste sentido que surge uma nova edição da formação focada essencialmente nos AJUSTAMENTOS NO ASANA. Desta feita dedicada a um outro conjunto de posturas\, sentadas & inversões\, e como certos e determinados ajustamentos às mesmas irão permitir um outro entendimento sobre a melhor forma de as encarar\, para melhor as realizar e nelas poder permanecer. \nFace ao carácter independente e diferenciador de cada um destes workshops\, a não participação num deles não impede a participação em outros. \n  \nPreço: \n100€ (para formadores e formandos FPY) \n120€ (sócios da FPY/AMAYUR com quotas regularizadas) \n140€ público em geral \n  \nInscrição: https://forms.gle/M1Cry5sLsS8R7umo6 \n  \nFORMADOR: \nHugo Abecassis – Professor de Yoga\, Fundador da entidade formadora “Embodied Yoga Anatomy” e do Curso de Especialização em Anatomia Funcional do Yoga. Terapeuta certificado internacionalmente em Ayurveda\, Terapias Biológicas\, Reprogramação Neuro Somática e Osteopata estrutural\, visceral e cranial. Mais informações em: www.hugoabecassis.com \n  \nPARCERIA \nNo âmbito da parceria que a FPY tem com o Paulo the Corkman https://www.paulothecorkman.com/shop/ informamos que enquanto participante no Workshop: Ajustamentos no Asana – posturas sentadas e inversões\, com o Professor Hugo Abecassis\, nos próximos dias 25 e 26 de maio\, poderá usufruir de um desconto de 30%\, nos blocos e tapetes de Yoga.
URL:http://federacaoportuguesayoga.pt/event/workshop-ajustamentos-no-asana-posturas-sentadas-e-inversoes/
LOCATION:Federação Portuguesa Yoga\, Campo Infante da Câmara (antigo jardim de infância)\, SANTARÉM\, Santarém\, 2000-014\, Portugal
ORGANIZER;CN="Federa%C3%A7%C3%A3o%20Portuguesa%20de%20Yoga":MAILTO:federacaoportuguesayoga@gmail.com
END:VEVENT
BEGIN:VEVENT
DTSTART;VALUE=DATE:20240529
DTEND;VALUE=DATE:20240530
DTSTAMP:20260422T092749
CREATED:20240515T172331Z
LAST-MODIFIED:20240517T082135Z
UID:4624-1716940800-1717027199@federacaoportuguesayoga.pt
SUMMARY:Consultas Ayurvédicas
DESCRIPTION:  \nA convite da AMAyur\, entidade parceira da FPY\, estarão em Portugal\, entre os dias 17/05 e 02/06\, dois reconhecidos médicos ayurvédicos provenientes de Pune – Índia\, Dra. Ankita & Dr. Abhijeet Shirkande. \nA Dra. Ankita é especialista em saúde da mulher e da criança\, cuidados pré-natais\, procedimentos de desintoxicação e doenças relacionadas com o estilo de vida. \nO Dr. Abhijeet é especialista em doenças gastrointestinais\, musculoescléticas e cancro. \nEstamos muito felizes por anunciar que estes sábios e experientes médicos estarão disponíveis para dar consultas na nossa sede\, em Santarém\, no dia 29 de Maio.\nAs consultas são em Inglês e têm um custo de 110 euros. Restam apenas duas vagas!!!! \nReservas e Marcações: federacaoportuguesayoga@gmail.com
URL:http://federacaoportuguesayoga.pt/event/consultas-ayurvedicas/
LOCATION:Federação Portuguesa Yoga\, Campo Infante da Câmara (antigo jardim de infância)\, SANTARÉM\, Santarém\, 2000-014\, Portugal
ORGANIZER;CN="Federa%C3%A7%C3%A3o%20Portuguesa%20de%20Yoga":MAILTO:federacaoportuguesayoga@gmail.com
END:VEVENT
BEGIN:VEVENT
DTSTART;TZID=UTC:20240529T190000
DTEND;TZID=UTC:20240529T210000
DTSTAMP:20260422T092749
CREATED:20240515T172524Z
LAST-MODIFIED:20240517T101954Z
UID:4628-1717009200-1717016400@federacaoportuguesayoga.pt
SUMMARY:Conferência "Dicas Ayurvédicas para problemas comuns"
DESCRIPTION:  \nA convite da AMAyur\, entidade parceira da FPY\, estarão em Portugal\, entre os dias 17/05 e 02/06\, dois reconhecidos médicos ayurvédicos provenientes de Pune – Índia\, Dra. Ankita & Dr. Abhijeet Shirkande. \nA Dra. Ankita é especialista em saúde da mulher e da criança\, cuidados pré-natais\, procedimentos de desintoxicação e doenças relacionadas com o estilo de vida. \nO Dr. Abhijeet é especialista em doenças gastrointestinais\, musculoescléticas e cancro. \nEstamos muito felizes que no dia 29/05\, pelas 19h\, na nossa sede\, com transmissão online\, iremos ter uma conferência: “Ayurvedic tips for common ailments”\, em inglês com tradução para português. Contribuição: 15 eur. \nReservas e Marcações: federacaoportuguesayoga@gmail.com
URL:http://federacaoportuguesayoga.pt/event/conferencia-dicas-ayurvedicas-para-problemas-comuns/
LOCATION:Federação Portuguesa Yoga\, Campo Infante da Câmara (antigo jardim de infância)\, SANTARÉM\, Santarém\, 2000-014\, Portugal
ORGANIZER;CN="Federa%C3%A7%C3%A3o%20Portuguesa%20de%20Yoga":MAILTO:federacaoportuguesayoga@gmail.com
END:VEVENT
END:VCALENDAR