BEGIN:VCALENDAR
VERSION:2.0
PRODID:-// - ECPv5.4.0.2//NONSGML v1.0//EN
CALSCALE:GREGORIAN
METHOD:PUBLISH
X-ORIGINAL-URL:http://federacaoportuguesayoga.pt
X-WR-CALDESC:Events for 
BEGIN:VTIMEZONE
TZID:UTC
BEGIN:STANDARD
TZOFFSETFROM:+0000
TZOFFSETTO:+0000
TZNAME:UTC
DTSTART:20240101T000000
END:STANDARD
END:VTIMEZONE
BEGIN:VEVENT
DTSTART;TZID=UTC:20240927T210000
DTEND;TZID=UTC:20240929T153000
DTSTAMP:20260422T023023
CREATED:20240719T092856Z
LAST-MODIFIED:20240902T165401Z
UID:4741-1727470800-1727623800@federacaoportuguesayoga.pt
SUMMARY:Aprofundar a transmissão da tradição do Yoga com Walter Ruta
DESCRIPTION:  \n \nAprofundar a transmissão da tradição do Yoga com o Yogui Walter Ruta \nTema:\n“Formação e informação sobre respiração” \nSeminário de formação em Inglês\n27 a 29 de setembro de 2024\nSede da Federação Portuguesa de Yoga\, Santarém \nHorários:\nSexta: 21h às 23h\nSáb.: 8h às 18h30\nDom.: 6h30 às 15h30 \nO fim de semana será preenchido com teoria e prática\, ásana\, pranayama\, meditação e canto de mantra. \n‘No Yoga moderno muitas vezes ouvimos falar sobre ‘Yoga-terapia’\, mas temos a certeza de que essas duas palavras precisam de ser associadas uma à outra? Na realidade\, o Yoga já é em si uma disciplina que leva à saúde e o seu meio por excelência é respirar! Neste encontro\, Walter Thirak Ruta irá propor uma prática que irá explorar a preparação e prática da respiração yógica.’ \nEste seminário teórico e prático integra o programa de ensino de carácter vinculatório da Federação Portuguesa de Yoga (FPY). Aproveite este regresso de Walter Ruta a Portugal\, uma nova oportunidade nesta demanda pelas chaves para a compreensão de uma visão equilibrada da transformação interior. \nAlojamento: há sempre a disponibilidade de pernoitar gratuitamente na sede da Federação\, sendo apenas necessário trazer saco-cama pois poderão dormir sobre os tapetes de Aikido. \nAlimentação: O almoço será partilhado (cada pessoa deverá trazer algo para partilhar). A FPY colocará à disposição chá e fruta. \nPreços: 140€ não sócios | 120€ sócios | 100€ alunos do Curso \nA estes valores acresce 10% para as inscrições efetuadas a partir de 1 de setembro 2024 (154€ não sócios | 132€ sócios | 110€ alunos do Curso \nInscrição: https://forms.gle/6MyTqxbn4nfRNiue7 \nA sua inscrição só será validada após o pagamento.
URL:http://federacaoportuguesayoga.pt/event/aprofundar-a-transmissao-da-tradicao-do-yoga-com-walter-ruta/
LOCATION:Federação Portuguesa Yoga\, Campo Infante da Câmara (antigo jardim de infância)\, SANTARÉM\, Santarém\, 2000-014\, Portugal
ORGANIZER;CN="Federa%C3%A7%C3%A3o%20Portuguesa%20de%20Yoga":MAILTO:federacaoportuguesayoga@gmail.com
END:VEVENT
END:VCALENDAR