BEGIN:VCALENDAR
VERSION:2.0
PRODID:-// - ECPv5.4.0.2//NONSGML v1.0//EN
CALSCALE:GREGORIAN
METHOD:PUBLISH
X-ORIGINAL-URL:http://federacaoportuguesayoga.pt
X-WR-CALDESC:Events for 
BEGIN:VTIMEZONE
TZID:UTC
BEGIN:STANDARD
TZOFFSETFROM:+0000
TZOFFSETTO:+0000
TZNAME:UTC
DTSTART:20250101T000000
END:STANDARD
END:VTIMEZONE
BEGIN:VEVENT
DTSTART;VALUE=DATE:20250412
DTEND;VALUE=DATE:20250414
DTSTAMP:20260421T142518
CREATED:20250305T162918Z
LAST-MODIFIED:20250402T105554Z
UID:5181-1744416000-1744588799@federacaoportuguesayoga.pt
SUMMARY:SEMINÁRIO DE YOGA COM MARIE FOUCHER-BÉNÉDIC
DESCRIPTION:  \nSEMINÁRIO DE YOGA COM MARIE FOUCHER-BÉNÉDIC*​​​​​​​​\nAPROFUNDAR O CONHECIMENTO DA PRÁTICA DE SRI SRI SRI SATCHIDANANDA​​​​​​​​\n​​​​​​​​\n12 & 13 ABRIL 202​​​​​​​5\n​​​​​​​​\n12\, Sábado: 9h00 às 13h00 + 14h00 às 18h00​​​​​​​​\n13\, Domingo: 08h00 às 12h00 + 13h00 às 16h00​​​​​​​​\n​​​​​​​​\nSede da Federação Portuguesa de Yoga\, Santarém.​​​​​​​​ \nSeminário falado em inglês. \nConsulte o programa do evento: \nPrograma em Português \n​​​​​​​​Programa em Inglês \nMais informações em federacaoportuguesayoga@gmail.com​​​​​​​​ \nINSCRIÇÕES: https://forms.gle/cukcpEY4oGNen6kv6 \n* MARIE FOUCHER-BÉNÉDIC​​​​​​​​\nDesde que se encontrou com Sri Sri Sri Satchitananda Yogi em 1982\, Marie tem seguido o ensinamento do chamado “Silencioso Yogi de Madras”.​​​​​​​​\nA sua formação em yoga operou-se directamente do Mestre ao aluno\, de 1982 a 2004\, durante os seminários que ele ministrou a cada verão em França e na Europa\, ou durante algumas viagens que Marie realizou com o Mestre à Índia\, incluindo nos últimos meses antes de sua morte em 2006\, aos 96 anos de idade.​​​​​​​​\nMarie\, que não pertence a nenhuma federação ou escola\, há muito tempo que ensina yoga como discípula do seu mestre. Proporciona\, na continuidade deste\, aulas colectivas ou individuais de yoga e também garante a formação de professores em Itália.​​​​​​​​
URL:http://federacaoportuguesayoga.pt/event/seminario-de-yoga-com-marie-foucher-benedic/
LOCATION:Federação Portuguesa Yoga\, Campo Infante da Câmara (antigo jardim de infância)\, SANTARÉM\, Santarém\, 2000-014\, Portugal
ORGANIZER;CN="Federa%C3%A7%C3%A3o%20Portuguesa%20de%20Yoga":MAILTO:federacaoportuguesayoga@gmail.com
END:VEVENT
END:VCALENDAR