BEGIN:VCALENDAR
VERSION:2.0
PRODID:-// - ECPv5.4.0.2//NONSGML v1.0//EN
CALSCALE:GREGORIAN
METHOD:PUBLISH
X-ORIGINAL-URL:http://federacaoportuguesayoga.pt
X-WR-CALDESC:Events for 
BEGIN:VTIMEZONE
TZID:UTC
BEGIN:STANDARD
TZOFFSETFROM:+0000
TZOFFSETTO:+0000
TZNAME:UTC
DTSTART:20250101T000000
END:STANDARD
END:VTIMEZONE
BEGIN:VEVENT
DTSTART;VALUE=DATE:20250620
DTEND;VALUE=DATE:20250701
DTSTAMP:20260421T113350
CREATED:20250616T152413Z
LAST-MODIFIED:20250616T165737Z
UID:5346-1750377600-1751327999@federacaoportuguesayoga.pt
SUMMARY:Festival de Yoga 2025
DESCRIPTION:Neste ano de 2025 a Federação Portuguesa de Yoga organiza a 10.º edição do Festival de Yoga\, para celebração do dia Internacional do Yoga (21 de junho). \nConsulte o programa completo\, de 20 a 30 de junho: \n \nNo dia 20 de junho\, pelas 18:30\, estaremos em Lisboa\, em parceria com a Embaixada da Índia\, a dar uma aula de Yoga em Belém. A aula é gratuita e será dada pelas Professoras Isabel Cristina e Luísa Gil. Traga o seu tapete e junte-se a nós! \n \nNo dia 21 de junho estaremos em duas cidades: \nNo Porto\, em parceria com a Natixis\, estaremos no parque de São Roque\, às 9:15\, para uma aula de Yoga com as Professoras Ana Paula Albuquerque e Camila Huret. Atividade gratuita que carece de inscrição prévia com a organização deste evento – https://portugalevents.natixis.com/events/yoga-day \nEm Santarém\, na nossa sede\, vamos ter um dia completo de atividades gratuitas: \n \nDe 20 a 30 de junho\, temos várias aulas e palestras em formato on-line e presencial. Estas atividades são gratuitas mas carecem de inscrição prévia através deste link – https://forms.gle/chpx5XVdXCF2cAWGA \nConsulte o programa detalhado: \n \nQuer experimentar aulas de Yoga gratuitas com vários professores? \nA convite da FPY\, alguns Professores federados abriram as suas aulas durante alguns dias. A grande maioria das aulas são em formato on-line\, facilitando o contacto com vários Professores sem sair de casa. De 23 a 30 de junho\, poderá experimentar gratuitamente as seguintes aulas: \n23/06\, segunda-feira:\n10:00 às 11:00 Yoga com Ana Costa Pereira (Zoom) contactar: mypremayoga@gmail.com\n11:00 às 12:00 Yoga na gravidez com Ana Pereira (Zoom) contactar: mypremayoga@gmail.com\n12:00 às 13:00 Yoga com Amândio Figueiredo (Zoom) contactar:+351 968139096\n19:30 às 20:30 Yoga com Catarina Silva (WhatsApp) contactar:+351 939757417\n19:30 às 20:15 Yoga para estudantes com Joana Oliveira (Zoom) contactar:+351 919048673 \n24/06\, terça-feira:\n10:00 às 10:30 Yoga para bebés com Joana Oliveira (Zoom e Presencial\, Associação Movimento Aberto\, em Santarém) contactar:+351 919048673\n11:00 às 12:00 Yoga para grávidas com Joana Oliveira (Zoom e Presencial\, Associação Movimento Aberto\, em Santarém) contactar:+351 919048673\n11:30 às 12:30 Yoga pós parto com Ana Pereira (Zoom) contactar: mypremayoga@gmail.com\n12:45 às 14:00 Yoga com Joana Oliveira (Zoom e Presencial\, Associação Movimento Aberto\, em Santarém) contactar:+351 919048673\n19:00 às 20:00 Yoga com Graça Fosco (Zoom) contactar: mypremayoga@gmail.com\n19:00 às 20:30 Yoga com Isabel Cristina (Presencial\, Associação Residentes de Telheiras\, Lisboa) Contactar: barbarabllanca@gmail.com \n25/06\, quarta-feira:\n7:00 às 8:00 Yoga com Amândio Figueiredo (Zoom) contactar:+351 968139096\n10:00 às 11:00 Yoga com Ana Costa Pereira (Zoom) contactar: mypremayoga@gmail.com\n11:00 às 12:00 Yoga na gravidez com Ana Pereira (Zoom) contactar: mypremayoga@gmail.com\n18:30 às 19:30 Yoga com Amândio Figueiredo (Zoom) contactar:+351 968139096\n19:30 às 20:30 Yoga para adultos com Catarina Silva (whatsApp) contactar:+351 939757417 \n26/06\, quinta-feira:\n12:45 às 14:00 Yoga com Joana Oliveira (Zoom e Presencial\, Associação Movimento Aberto\, em Santarém) contactar: +351 919048673\n18:45 às 20:00 Yoga com Magali Stobbaerts (Cisco webex) Contactar: +351 936060677\n19:00 às 20:00 Yoga com Graça Fosco (Zoom) contactar: mypremayoga@gmail.com\n19:00 às 20:30 Yoga com Isabel Cristina (Presencial\, Associação Residentes de Telheiras\, Lisboa) Contactar: barbarabllanca@gmail.com\n19:00 às 20:15 Yoga com Joana Oliveira (Zoom e Presencial\, Associação Movimento Aberto\, em Santarém) contactar: +351 919048673 \n27/06\, sexta-feira:\n12:00 às 13:00 Yoga com Amândio Figueiredo (Zoom) contactar: +351 968139096 \n30/06\, segunda-feira:\n10:00 às 11:00 Yoga para adultos com Ana Costa Pereira (Zoom) contactar: mypremayoga@gmail.com\n11:00 às 12:00 Yoga na gravidez com Ana Pereira (Zoom) contactar: mypremayoga@gmail.com\n12:00 às 13:00 Yoga para adultos com Amândio Figueiredo (Zoom) contactar: +351 968139096
URL:http://federacaoportuguesayoga.pt/event/festival-de-yoga-2025/
LOCATION:Santarém
ORGANIZER;CN="Federa%C3%A7%C3%A3o%20Portuguesa%20de%20Yoga":MAILTO:federacaoportuguesayoga@gmail.com
END:VEVENT
END:VCALENDAR