BEGIN:VCALENDAR
VERSION:2.0
PRODID:-// - ECPv5.4.0.2//NONSGML v1.0//EN
CALSCALE:GREGORIAN
METHOD:PUBLISH
X-ORIGINAL-URL:https://federacaoportuguesayoga.pt
X-WR-CALDESC:Events for 
BEGIN:VTIMEZONE
TZID:UTC
BEGIN:STANDARD
TZOFFSETFROM:+0000
TZOFFSETTO:+0000
TZNAME:UTC
DTSTART:20220101T000000
END:STANDARD
END:VTIMEZONE
BEGIN:VEVENT
DTSTART;TZID=UTC:20220327T150000
DTEND;TZID=UTC:20220327T183000
DTSTAMP:20260421T124126
CREATED:20220309T110231Z
LAST-MODIFIED:20220309T110306Z
UID:3133-1648393200-1648405800@federacaoportuguesayoga.pt
SUMMARY:Experiência Espiritual e Vazio (oriente e ocidente) com Ana Oliveira
DESCRIPTION:*Ana Oliveira tem formação na área das Religiões (Ocidente/Oriente)\, mestre em História e Teologia das Religiões (UCP). Inicia a prática do Yoga\, Aikido e Zen em 1983 com o Mestre Georges Stobbaerts\, no Budokan de Cascais. Em 1985 integra o grupo fundador da Arte do Movimento – TenChi Tessen – criação de Georges Stobbaerts. Até 1989 segue as aulas/ estágios e seminários dirigidos por Mestre Stobbaerts\, assim como de vários professores estrangeiros que\, a convite do mestre\, se deslocavam a Portugal\, como por exemplo o Swami Satchidananda Yogi de Madras e a doutora Tara Michael\, orientalista do CNRS de França. A partir de 1989 inicia o ensino das disciplinas de Yoga e do TenChi Tessen\, fazendo parte da Associação TenChi Internacional\, fundada por Georges Stobbaerts\, integrando o corpo docente desta organização. Em 1998\, é membro fundador da Federação Portuguesa de Yoga e integra o corpo docente desta organização\, no curso de formação de professores de yoga\, leccionando as disciplinas de História e Filosofia do Yoga Hindu; Textos Sagrados do Hinduísmo e Meditação.\n\nPrograma do seminário:\nIntrodução\nO «Obscuro e Luminoso Silêncio» de Pseudo-Dionísio e a Vaculdade de\nNagarjuna. \nParte 1\na) Modos do Vazio:\n– A vibração\n– O vazio intersticial \nb) Consciência e Vazio:\n– O vazio do desnudamento\n– A noite da destruição\n– Vazios Inconscientes \nc) O Abismo ou o Salto \nParte 2\nMomento de Partilha \nParte 3\nMeditação: Zazen \n  \nVALORES:\n– Sócios = 15€\n– Não Sócios = 20€ \n\nINSCRIÇÃO: https://forms.gle/LLhevQT3WFpBBMpYA \n\nINFORMAÇÕES: http://federacaoportuguesayoga.pt/contacto/
URL:https://federacaoportuguesayoga.pt/event/3133/
LOCATION:Federação Portuguesa Yoga\, Campo Infante da Câmara (antigo jardim de infância)\, SANTARÉM\, Santarém\, 2000-014\, Portugal
ORGANIZER;CN="Federa%C3%A7%C3%A3o%20Portuguesa%20de%20Yoga":MAILTO:federacaoportuguesayoga@gmail.com
END:VEVENT
END:VCALENDAR