BEGIN:VCALENDAR
VERSION:2.0
PRODID:-// - ECPv5.4.0.2//NONSGML v1.0//EN
CALSCALE:GREGORIAN
METHOD:PUBLISH
X-ORIGINAL-URL:https://federacaoportuguesayoga.pt
X-WR-CALDESC:Events for 
BEGIN:VTIMEZONE
TZID:UTC
BEGIN:STANDARD
TZOFFSETFROM:+0000
TZOFFSETTO:+0000
TZNAME:UTC
DTSTART:20220101T000000
END:STANDARD
END:VTIMEZONE
BEGIN:VEVENT
DTSTART;TZID=UTC:20220220T180000
DTEND;TZID=UTC:20220220T193000
DTSTAMP:20260421T153115
CREATED:20220124T120257Z
LAST-MODIFIED:20220128T145902Z
UID:2750-1645380000-1645385400@federacaoportuguesayoga.pt
SUMMARY:Prática de Yoga com... Bárbara Espírito Santo
DESCRIPTION:  \nEvento reservado a sócios da FPY \nInscrições até dia 17 de fevereiro: https://forms.gle/cYmmYzzmmpZEE5hU7
URL:https://federacaoportuguesayoga.pt/event/pratica-de-yoga-com-barbara-espirito-santo/
LOCATION:ZOOM
ORGANIZER;CN="Federa%C3%A7%C3%A3o%20Portuguesa%20de%20Yoga":MAILTO:federacaoportuguesayoga@gmail.com
END:VEVENT
END:VCALENDAR