BEGIN:VCALENDAR
VERSION:2.0
PRODID:-// - ECPv5.4.0.2//NONSGML v1.0//EN
CALSCALE:GREGORIAN
METHOD:PUBLISH
X-ORIGINAL-URL:https://federacaoportuguesayoga.pt
X-WR-CALDESC:Events for 
BEGIN:VTIMEZONE
TZID:UTC
BEGIN:STANDARD
TZOFFSETFROM:+0000
TZOFFSETTO:+0000
TZNAME:UTC
DTSTART:20210101T000000
END:STANDARD
END:VTIMEZONE
BEGIN:VEVENT
DTSTART;TZID=UTC:20211026T080000
DTEND;TZID=UTC:20211026T093000
DTSTAMP:20260421T205013
CREATED:20210929T092726Z
LAST-MODIFIED:20210929T092726Z
UID:2450-1635235200-1635240600@federacaoportuguesayoga.pt
SUMMARY:Prática de Yoga com... Carla Paulo
DESCRIPTION:  \nAtividade Exclusiva a sócios da FPY \nInscrições até 22/10\, 6.ª feira\, através do formulário – https://forms.gle/CTn23Za4mtTqrYLF6
URL:https://federacaoportuguesayoga.pt/event/pratica-de-yoga-com-carla-paulo/
LOCATION:ZOOM
ORGANIZER;CN="Federa%C3%A7%C3%A3o%20Portuguesa%20de%20Yoga":MAILTO:federacaoportuguesayoga@gmail.com
END:VEVENT
END:VCALENDAR