BEGIN:VCALENDAR
VERSION:2.0
PRODID:-// - ECPv5.4.0.2//NONSGML v1.0//EN
CALSCALE:GREGORIAN
METHOD:PUBLISH
X-ORIGINAL-URL:https://federacaoportuguesayoga.pt
X-WR-CALDESC:Events for 
BEGIN:VTIMEZONE
TZID:UTC
BEGIN:STANDARD
TZOFFSETFROM:+0000
TZOFFSETTO:+0000
TZNAME:UTC
DTSTART:20210101T000000
END:STANDARD
END:VTIMEZONE
BEGIN:VEVENT
DTSTART;TZID=UTC:20211003T180000
DTEND;TZID=UTC:20211003T193000
DTSTAMP:20260421T203257
CREATED:20210910T103519Z
LAST-MODIFIED:20210910T103519Z
UID:2407-1633284000-1633289400@federacaoportuguesayoga.pt
SUMMARY:Prática de Yoga com... Graça Fosco
DESCRIPTION:  \nInscrições até 30 setembro 2021\, reservado a sócios da FPY – https://forms.gle/WWSXP6sCTFNgN4R38
URL:https://federacaoportuguesayoga.pt/event/pratica-de-yoga-com-graca-fosco/
LOCATION:ZOOM
ORGANIZER;CN="Federa%C3%A7%C3%A3o%20Portuguesa%20de%20Yoga":MAILTO:federacaoportuguesayoga@gmail.com
END:VEVENT
END:VCALENDAR