BEGIN:VCALENDAR
VERSION:2.0
PRODID:-// - ECPv5.4.0.2//NONSGML v1.0//EN
CALSCALE:GREGORIAN
METHOD:PUBLISH
X-ORIGINAL-URL:https://federacaoportuguesayoga.pt
X-WR-CALDESC:Events for 
BEGIN:VTIMEZONE
TZID:UTC
BEGIN:STANDARD
TZOFFSETFROM:+0000
TZOFFSETTO:+0000
TZNAME:UTC
DTSTART:20230101T000000
END:STANDARD
END:VTIMEZONE
BEGIN:VEVENT
DTSTART;VALUE=DATE:20230211
DTEND;VALUE=DATE:20230213
DTSTAMP:20260421T172422
CREATED:20230102T112728Z
LAST-MODIFIED:20230207T162309Z
UID:3618-1676073600-1676246399@federacaoportuguesayoga.pt
SUMMARY:Seminário com Marie Foucher
DESCRIPTION:  \nSEMINÁRIO DE YOGA COM MARIE FOUCHER*​​​​​​​​\nAPROFUNDAR O CONHECIMENTO DA PRÁTICA DE SRI SRI SRI SATCHIDANANDA​​​​​​​​\n​​​​​​​​\n11 & 12 FEVEREIRO 2023​​​​​​​​\n​​​​​​​​\n11\, Sábado: 8h30 às 12h30 + 14h00 às 18h00​​​​​​​​\n12\, Domingo: 8h30 às 12h30 + 14h00 às 17h00​​​​​​​​\n​​​​​​​​\nSede da Federação Portuguesa de Yoga\, Santarém.​​​​​​​​ \nSeminário falado em Inglês. \nPreço do seminário: 100€ (80€ para sócios da FPY\, com quotas regularizadas. 65€ para alunos em formação) \n​​​​​​​​Inscrições: https://forms.gle/M2TA8bUSEUpX1dY27 \nMais informações em federacaoportuguesayoga@gmail.com​​​​​​​​\n​​​​​​​​\n* MARIE FOUCHER ​​​​​​​​\nDesde que se encontrou com Sri Sri Sri Satchitananda Yogi em 1982\, Marie tem seguido o ensinamento do chamado “Silencioso Yogi de Madras”.​​​​​​​​\nA sua formação em yoga operou-se directamente do Mestre ao aluno\, de 1982 a 2004\, durante os seminários que ele ministrou a cada verão em França e na Europa\, ou durante algumas viagens que Marie realizou com o Mestre à Índia\, incluindo nos últimos meses antes de sua morte em 2006\, aos 96 anos de idade.​​​​​​​​\nMarie\, que não pertence a nenhuma federação ou escola\, há muito tempo que ensina yoga como discípula do seu mestre. Proporciona\, na continuidade deste\, aulas colectivas ou individuais de yoga e também garante a formação de professores em Itália.​​​​​​​​
URL:https://federacaoportuguesayoga.pt/event/seminario-com-marie-foucher/
LOCATION:Federação Portuguesa Yoga\, Campo Infante da Câmara (antigo jardim de infância)\, SANTARÉM\, Santarém\, 2000-014\, Portugal
ORGANIZER;CN="Federa%C3%A7%C3%A3o%20Portuguesa%20de%20Yoga":MAILTO:federacaoportuguesayoga@gmail.com
END:VEVENT
END:VCALENDAR