BEGIN:VCALENDAR
VERSION:2.0
PRODID:-// - ECPv5.4.0.2//NONSGML v1.0//EN
CALSCALE:GREGORIAN
METHOD:PUBLISH
X-ORIGINAL-URL:https://federacaoportuguesayoga.pt
X-WR-CALDESC:Events for 
BEGIN:VTIMEZONE
TZID:UTC
BEGIN:STANDARD
TZOFFSETFROM:+0000
TZOFFSETTO:+0000
TZNAME:UTC
DTSTART:20210101T000000
END:STANDARD
END:VTIMEZONE
BEGIN:VEVENT
DTSTART;VALUE=DATE:20211017
DTEND;VALUE=DATE:20211018
DTSTAMP:20260421T222140
CREATED:20210922T085215Z
LAST-MODIFIED:20211001T153204Z
UID:2441-1634428800-1634515199@federacaoportuguesayoga.pt
SUMMARY:XI Jornadas de Yoga | 2.ª E-Jornada de Yoga
DESCRIPTION:  \nConsulte o programa das Jornadas \n  \nPara inscrições – https://forms.gle/edXBb4gb6t8iVaWh8
URL:https://federacaoportuguesayoga.pt/event/xi-jornadas-de-yoga-2-a-e-jornada-de-yoga/
LOCATION:Museu do Oriente\, Doca de Alcantara Norte\, Av. Brasília\, Lisboa\, 1350-352\, Portugal
ORGANIZER;CN="Federa%C3%A7%C3%A3o%20Portuguesa%20de%20Yoga":MAILTO:federacaoportuguesayoga@gmail.com
END:VEVENT
END:VCALENDAR